BEGIN:VCALENDAR
PRODID:-//PUBBLE//agenda//NL
VERSION:2.0
METHOD:PUBLISH
BEGIN:VEVENT
DTSTART:20260514T171500Z
DTEND:20260514T203000Z
DTSTAMP:20260421T153049Z
UID:0355d4d9-7da5-4478-b02c-c5baf81063ab
CREATED:20260421T153049Z
NAME:Autopuzzelrit op Hemelvaartsdag recreatiekrantveluwe.nl
X-WR-CALNAME:Autopuzzelrit op Hemelvaartsdag
X-ALT-DESC;FMTTYPE=text/html:<a href='/agenda/2026/5/14/autopuzzelrit-op-hemelvaartsdag-1270628'>/agenda/2026/5/14/autopuzzelrit-op-hemelvaartsdag-1270628</a> || <p>Puzzelrit op Hemelvaartsdag (14 mei) &nbsp;voor automobilisten</p><p>Deelnemen aan een autopuzzelrit is een vorm van vrijetijdsbesteding, met een</p><p>vleugje (wedstrijd)spanning.</p><p>Bij een puzzelrit ook wel sterrit genoemd krijgen de deelnemers een routebeschrijving mee met opdrachten die onderweg al dan niet uitgevoerd kunnen worden. Nieuwkomers krijgen vooraf een uitleg hoe de controlekaart in te vullen etc.</p><p>Vooral goed lezen van de opdrachten kan al een sleutel tot succes zijn.</p><p>Met je medepassagier(s) kun je overleggen over de opdrachten, bang om ‘de weg’ kwijt te raken hoeft men niet te zijn.</p><p>Inschrijf-, start- en finishadres Camping De Oude Pol, Randmeerweg 24, 8071 SH &nbsp; Nunspeet.</p><p>Er kan in drie klassen worden ingeschreven, waarbij de C-klasse de klasse is voor de nieuwkomers.</p><p>Inschrijven vanaf 19:15 uur tot 20:15 uur.</p><p>Inschrijfkosten 8,50 per auto.</p>
DESCRIPTION:<a href='/agenda/2026/5/14/autopuzzelrit-op-hemelvaartsdag-1270628'>/agenda/2026/5/14/autopuzzelrit-op-hemelvaartsdag-1270628</a> || <p>Puzzelrit op Hemelvaartsdag (14 mei) &nbsp;voor automobilisten</p><p>Deelnemen aan een autopuzzelrit is een vorm van vrijetijdsbesteding, met een</p><p>vleugje (wedstrijd)spanning.</p><p>Bij een puzzelrit ook wel sterrit genoemd krijgen de deelnemers een routebeschrijving mee met opdrachten die onderweg al dan niet uitgevoerd kunnen worden. Nieuwkomers krijgen vooraf een uitleg hoe de controlekaart in te vullen etc.</p><p>Vooral goed lezen van de opdrachten kan al een sleutel tot succes zijn.</p><p>Met je medepassagier(s) kun je overleggen over de opdrachten, bang om ‘de weg’ kwijt te raken hoeft men niet te zijn.</p><p>Inschrijf-, start- en finishadres Camping De Oude Pol, Randmeerweg 24, 8071 SH &nbsp; Nunspeet.</p><p>Er kan in drie klassen worden ingeschreven, waarbij de C-klasse de klasse is voor de nieuwkomers.</p><p>Inschrijven vanaf 19:15 uur tot 20:15 uur.</p><p>Inschrijfkosten 8,50 per auto.</p>
LAST-MODIFIED:20260421T153049Z
LOCATION: Camping de Oude Pol | Randmeerweg 24 Nunspeet
SEQUENCE:0
STATUS:CONFIRMED
SUMMARY:Autopuzzelrit op Hemelvaartsdag
TRANSP:OPAQUE
END:VEVENT
END:VCALENDAR
