BEGIN:VCALENDAR
PRODID:-//PUBBLE//agenda//NL
VERSION:2.0
METHOD:PUBLISH
BEGIN:VEVENT
DTSTART:20260530T200000Z
DTEND:20260530T220000Z
DTSTAMP:20260420T090147Z
UID:da1ed76d-42d6-4a3f-b3bb-e57fc9e0caa0
CREATED:20260420T090147Z
NAME:Pianoconcert Ischico Velzel recreatiekrantveluwe.nl
X-WR-CALNAME:Pianoconcert Ischico Velzel
X-ALT-DESC;FMTTYPE=text/html:<a href='/agenda/2026/5/30/pianoconcert-ischico-velzel-1269900'>/agenda/2026/5/30/pianoconcert-ischico-velzel-1269900</a> || <h2>Ontdek de wereld van Ischico Velzel</h2><p>Je gaat een bijzondere muzikale ontdekkingsreis maken met Ischico Velzel. Deze Nederlands-Indiase pianiste neemt je mee langs klassieke muziekstukken die ze een eigen, moderne draai geeft. Verwacht een mix van verschillende stijlen. Ischico combineert klassiek met volksmuziek, jazz, pop en improvisatie. Zo krijg je een verrassend geheel te horen dat je vast zal boeien.</p><h2>Een unieke verbinding met het publiek</h2><p>Ischico is meer dan alleen een pianiste. Ze is een ware muzikale avonturier. Tijdens elk concert maakt ze een directe verbinding met jou als publiek. Ze zoekt altijd naar verborgen schatten in het pianorepertoire. Daarnaast speelt ze ook haar eigen stukken en improviseert ze. Zo laat ze oude klassieke muziek samenkomen met nieuwe invloeden uit volksmuziek en jazz. Muziekrecensenten zeggen over haar dat haar spel “moeiteloos expressief” is en “technisch bijzonder vloeiend”.</p><h2>Laat je inspireren door verschillende muziekstijlen</h2><p>Ischico Velzel haalt haar inspiratie uit veel verschillende artiesten. Denk aan namen zoals Tigran Hamasyan, Zara Levina, Nitai Hershkovits, Ethan Gruska en Spinvis. Ze beweegt zich gemakkelijk tussen allerlei muzikale werelden. Je zult merken dat ze graag samenwerkt met anderen. Zo brengt ze klassieke muziek in contact met andere kunsten, zoals beeldende kunst, dans en theater. Haar nieuwsgierigheid naar onbekende muziek heeft haar zelfs een eerste prijs opgeleverd, de Lamond Prize, met de Sonata-Skazka van Nikolai Medtner. Dit laat zien hoe goed ze is in het ontdekken en spelen van bijzondere muziek.</p><h2>Mis dit unieke pianoconcert niet</h2><p>Ben je klaar voor een avond vol muzikale verrassingen en grensverleggende klanken? Kom dan luisteren naar Ischico Velzel. Je beleeft een concert dat je niet snel zult vergeten. Zorg dat je erbij bent en laat je inspireren door deze getalenteerde pianiste! Bestel nu je kaarten en geniet van een onvergetelijke muzikale ervaring.</p>
DESCRIPTION:<a href='/agenda/2026/5/30/pianoconcert-ischico-velzel-1269900'>/agenda/2026/5/30/pianoconcert-ischico-velzel-1269900</a> || <h2>Ontdek de wereld van Ischico Velzel</h2><p>Je gaat een bijzondere muzikale ontdekkingsreis maken met Ischico Velzel. Deze Nederlands-Indiase pianiste neemt je mee langs klassieke muziekstukken die ze een eigen, moderne draai geeft. Verwacht een mix van verschillende stijlen. Ischico combineert klassiek met volksmuziek, jazz, pop en improvisatie. Zo krijg je een verrassend geheel te horen dat je vast zal boeien.</p><h2>Een unieke verbinding met het publiek</h2><p>Ischico is meer dan alleen een pianiste. Ze is een ware muzikale avonturier. Tijdens elk concert maakt ze een directe verbinding met jou als publiek. Ze zoekt altijd naar verborgen schatten in het pianorepertoire. Daarnaast speelt ze ook haar eigen stukken en improviseert ze. Zo laat ze oude klassieke muziek samenkomen met nieuwe invloeden uit volksmuziek en jazz. Muziekrecensenten zeggen over haar dat haar spel “moeiteloos expressief” is en “technisch bijzonder vloeiend”.</p><h2>Laat je inspireren door verschillende muziekstijlen</h2><p>Ischico Velzel haalt haar inspiratie uit veel verschillende artiesten. Denk aan namen zoals Tigran Hamasyan, Zara Levina, Nitai Hershkovits, Ethan Gruska en Spinvis. Ze beweegt zich gemakkelijk tussen allerlei muzikale werelden. Je zult merken dat ze graag samenwerkt met anderen. Zo brengt ze klassieke muziek in contact met andere kunsten, zoals beeldende kunst, dans en theater. Haar nieuwsgierigheid naar onbekende muziek heeft haar zelfs een eerste prijs opgeleverd, de Lamond Prize, met de Sonata-Skazka van Nikolai Medtner. Dit laat zien hoe goed ze is in het ontdekken en spelen van bijzondere muziek.</p><h2>Mis dit unieke pianoconcert niet</h2><p>Ben je klaar voor een avond vol muzikale verrassingen en grensverleggende klanken? Kom dan luisteren naar Ischico Velzel. Je beleeft een concert dat je niet snel zult vergeten. Zorg dat je erbij bent en laat je inspireren door deze getalenteerde pianiste! Bestel nu je kaarten en geniet van een onvergetelijke muzikale ervaring.</p>
LAST-MODIFIED:20260420T090147Z
LOCATION: Stichting Kulturhus EGW, Stationsstraat, Epe, Netherlands | Stationsstraat  Epe
SEQUENCE:0
STATUS:CONFIRMED
SUMMARY:Pianoconcert Ischico Velzel
TRANSP:OPAQUE
END:VEVENT
END:VCALENDAR
