BEGIN:VCALENDAR
PRODID:-//PUBBLE//agenda//NL
VERSION:2.0
METHOD:PUBLISH
BEGIN:VEVENT
DTSTART:20260509T140000Z
DTEND:20260509T163000Z
DTSTAMP:20260421T235528Z
UID:68d82731-0072-43c6-b737-ba7fed4bf254
CREATED:20260421T235528Z
NAME:Themasafari Teerose Veluwezoom recreatiekrantveluwe.nl
X-WR-CALNAME:Themasafari Teerose Veluwezoom
X-ALT-DESC;FMTTYPE=text/html:<a href='/agenda/2026/5/9/themasafari-teerose-veluwezoom-1269889'>/agenda/2026/5/9/themasafari-teerose-veluwezoom-1269889</a> || <h2>Ontdek Nationaal Park Veluwezoom</h2><p>Je gaat mee op een speciale tour door het prachtige Nationaal Park Veluwezoom. Je stapt in een comfortabele bus met chauffeur en een eigen gids. Je kunt heerlijk achteroverleunen en genieten van de mooie natuur. De gids vertelt je alles over het gebied. Je rijdt door indrukwekkende landschappen. Zie hoe de natuur verandert en geniet van de weidse uitzichten. Onderweg kom je ook langs bijzondere plekken die je herinneren aan vroeger. Denk aan de overblijfselen van de Teerose-stellingen uit de Tweede Wereldoorlog. Je leert meer over hoe het landschap is ontstaan en welke dieren en planten er leven. Ook ontdek je de geschiedenis van de Teerose-stellingen. Waarvoor dienden die betonnen resten? Je hoort het allemaal tijdens deze boeiende rit.</p><h2>Wat je kunt verwachten</h2><p>Dit is een unieke kans om de Veluwezoom te verkennen. De bus is lekker comfortabel en je hebt altijd een goed uitzicht. Je bent niet de enige, want er kunnen maximaal 4 mensen mee. Zo blijft de groep klein en gezellig. De tour duurt ongeveer 2 tot 2,5 uur. Onderweg stap je af en toe uit om even de benen te strekken en de omgeving beter te bekijken. Je krijgt ook een drankje aangeboden tijdens de excursie.</p><h2>Handige tips voor je bezoek</h2><p>Voordat je vertrekt, is het slim om alvast je kaartje te kopen. Zo ben je zeker van je plek. Trek comfortabele schoenen aan, want je stapt soms uit de bus. Het weer op de Veluwe kan snel omslaan, dus een regenjas kan handig zijn. En vergeet je verrekijker niet! Daarmee kun je wilde dieren of mooie vogels spotten in de verte. De excursie begint bij Rustpunt de Writsaert in Arnhem/Deelen. Je kunt je auto gratis parkeren bij Deelerwoud van Natuurmonumenten. Vanaf daar loop je via een bospad naar het Rustpunt. Let op: het Rustpunt is niet bereikbaar met het openbaar vervoer. Zorg dus dat je met de auto komt of een andere manier van vervoer regelt.</p><h2>Boek nu je Themasafari Teerose Veluwezoom</h2><p>Wil je de Veluwezoom op een unieke manier ontdekken? Ga dan mee met de Themasafari Teerose. Je leert veel over de natuur en de geschiedenis van dit prachtige gebied. Een perfect uitje voor jou als je van natuur en cultuur houdt. Koop snel je kaartje en beleef een onvergetelijke dag!</p>
DESCRIPTION:<a href='/agenda/2026/5/9/themasafari-teerose-veluwezoom-1269889'>/agenda/2026/5/9/themasafari-teerose-veluwezoom-1269889</a> || <h2>Ontdek Nationaal Park Veluwezoom</h2><p>Je gaat mee op een speciale tour door het prachtige Nationaal Park Veluwezoom. Je stapt in een comfortabele bus met chauffeur en een eigen gids. Je kunt heerlijk achteroverleunen en genieten van de mooie natuur. De gids vertelt je alles over het gebied. Je rijdt door indrukwekkende landschappen. Zie hoe de natuur verandert en geniet van de weidse uitzichten. Onderweg kom je ook langs bijzondere plekken die je herinneren aan vroeger. Denk aan de overblijfselen van de Teerose-stellingen uit de Tweede Wereldoorlog. Je leert meer over hoe het landschap is ontstaan en welke dieren en planten er leven. Ook ontdek je de geschiedenis van de Teerose-stellingen. Waarvoor dienden die betonnen resten? Je hoort het allemaal tijdens deze boeiende rit.</p><h2>Wat je kunt verwachten</h2><p>Dit is een unieke kans om de Veluwezoom te verkennen. De bus is lekker comfortabel en je hebt altijd een goed uitzicht. Je bent niet de enige, want er kunnen maximaal 4 mensen mee. Zo blijft de groep klein en gezellig. De tour duurt ongeveer 2 tot 2,5 uur. Onderweg stap je af en toe uit om even de benen te strekken en de omgeving beter te bekijken. Je krijgt ook een drankje aangeboden tijdens de excursie.</p><h2>Handige tips voor je bezoek</h2><p>Voordat je vertrekt, is het slim om alvast je kaartje te kopen. Zo ben je zeker van je plek. Trek comfortabele schoenen aan, want je stapt soms uit de bus. Het weer op de Veluwe kan snel omslaan, dus een regenjas kan handig zijn. En vergeet je verrekijker niet! Daarmee kun je wilde dieren of mooie vogels spotten in de verte. De excursie begint bij Rustpunt de Writsaert in Arnhem/Deelen. Je kunt je auto gratis parkeren bij Deelerwoud van Natuurmonumenten. Vanaf daar loop je via een bospad naar het Rustpunt. Let op: het Rustpunt is niet bereikbaar met het openbaar vervoer. Zorg dus dat je met de auto komt of een andere manier van vervoer regelt.</p><h2>Boek nu je Themasafari Teerose Veluwezoom</h2><p>Wil je de Veluwezoom op een unieke manier ontdekken? Ga dan mee met de Themasafari Teerose. Je leert veel over de natuur en de geschiedenis van dit prachtige gebied. Een perfect uitje voor jou als je van natuur en cultuur houdt. Koop snel je kaartje en beleef een onvergetelijke dag!</p>
LAST-MODIFIED:20260421T235528Z
LOCATION: Rustpunt De Writsaerthoeve | Hoenderloseweg  Arnhem
SEQUENCE:0
STATUS:CONFIRMED
SUMMARY:Themasafari Teerose Veluwezoom
TRANSP:OPAQUE
END:VEVENT
END:VCALENDAR
