BEGIN:VCALENDAR
PRODID:-//PUBBLE//agenda//NL
VERSION:2.0
METHOD:PUBLISH
BEGIN:VEVENT
DTSTART:20260531T000000Z
DTEND:20260531T010000Z
DTSTAMP:20260420T101740Z
UID:279e2e27-7ef3-4cbb-8e99-3fd405bfe21e
CREATED:20260420T101740Z
NAME:Bezoek schaapherder recreatiekrantveluwe.nl
X-WR-CALNAME:Bezoek schaapherder
X-ALT-DESC;FMTTYPE=text/html:<a href='/agenda/2026/5/31/bezoek-schaapherder-1268518'>/agenda/2026/5/31/bezoek-schaapherder-1268518</a> || <h2>Ontdek de lammetjes op de Loenermark</h2><p>De lente is begonnen op de Loenermark! De schattige lammetjes mogen eindelijk met hun moeders mee naar de heide. Het is een prachtig gezicht om ze te zien rondhuppelen.</p><h2>Help de schaapherder een handje</h2><p>De schaapherder en zijn honden hebben het er maar druk mee. De jonge dieren zijn erg nieuwsgierig en rennen alle kanten op. Ga gezellig mee met de boswachter en wandel naar de kudde. Zo zie je de schaapherder en zijn honden live aan het werk. Je leert vast iets nieuws over hun belangrijke taak.</p><h2>Belangrijke tip voor je bezoek</h2><p>Wil je komen kijken? Reserveer dan vooraf online je plekje. Zo ben je zeker van een plek. Let op: de boswachter geeft nog een handige tip: als je met hele jonge kinderen komt, of met een buggy of wandelwagen, dan is deze activiteit niet zo handig. Het terrein is namelijk niet geschikt hiervoor.</p><h2>Kom je ook genieten van de natuur?</h2><p>Beleef de lente op de Loenermark en geniet van de jonge lammetjes en het traditionele werk van de schaapherder. Een unieke ervaring voor iedereen die van natuur en dieren houdt!</p>
DESCRIPTION:<a href='/agenda/2026/5/31/bezoek-schaapherder-1268518'>/agenda/2026/5/31/bezoek-schaapherder-1268518</a> || <h2>Ontdek de lammetjes op de Loenermark</h2><p>De lente is begonnen op de Loenermark! De schattige lammetjes mogen eindelijk met hun moeders mee naar de heide. Het is een prachtig gezicht om ze te zien rondhuppelen.</p><h2>Help de schaapherder een handje</h2><p>De schaapherder en zijn honden hebben het er maar druk mee. De jonge dieren zijn erg nieuwsgierig en rennen alle kanten op. Ga gezellig mee met de boswachter en wandel naar de kudde. Zo zie je de schaapherder en zijn honden live aan het werk. Je leert vast iets nieuws over hun belangrijke taak.</p><h2>Belangrijke tip voor je bezoek</h2><p>Wil je komen kijken? Reserveer dan vooraf online je plekje. Zo ben je zeker van een plek. Let op: de boswachter geeft nog een handige tip: als je met hele jonge kinderen komt, of met een buggy of wandelwagen, dan is deze activiteit niet zo handig. Het terrein is namelijk niet geschikt hiervoor.</p><h2>Kom je ook genieten van de natuur?</h2><p>Beleef de lente op de Loenermark en geniet van de jonge lammetjes en het traditionele werk van de schaapherder. Een unieke ervaring voor iedereen die van natuur en dieren houdt!</p>
LAST-MODIFIED:20260420T101740Z
LOCATION: Wildobservatiepunt Loenermark | Groenedaalseweg   Loenen
SEQUENCE:0
STATUS:CONFIRMED
SUMMARY:Bezoek schaapherder
TRANSP:OPAQUE
END:VEVENT
END:VCALENDAR
