BEGIN:VCALENDAR
PRODID:-//PUBBLE//agenda//NL
VERSION:2.0
METHOD:PUBLISH
BEGIN:VEVENT
DTSTART:20260419T090000Z
DTEND:20260419T160000Z
DTSTAMP:20260420T022431Z
UID:e5714fff-bd73-4c68-8790-110d3f31dac3
CREATED:20260420T022431Z
NAME:Vlooienmarkt Eerbeek recreatiekrantveluwe.nl
X-WR-CALNAME:Vlooienmarkt Eerbeek
X-ALT-DESC;FMTTYPE=text/html:<a href='/agenda/2026/4/19/vlooienmarkt-eerbeek-1267859'>/agenda/2026/4/19/vlooienmarkt-eerbeek-1267859</a> || <h2>Welkom bij de gezellige vlooienmarkt in Eerbeek!</h2><p>Je bent van harte welkom in Sporthal De Bhoele voor een markt vol verrassingen. Deze vlooienmarkt is bekend om de leuke mix van spullen die je er vindt. Denk aan mooie antieke voorwerpen, bijzondere curiosa en brocante schatten. Ook voor handige spullen voor in huis en mooie kleding ben je hier aan het juiste adres. Je vindt er ook veel kleine snuisterijen en spullen om je huis mee te versieren. Het evenement is helemaal binnen, dus het maakt niet uit wat voor weer het is. Je kunt altijd droog en gezellig rondkijken!</p><h2>Wat je kunt verwachten</h2><p>De organisatie, Animo Vlooienmarkten, zorgt ervoor dat de hal “bomvol met mooie spullen” staat. Als je op zoek bent naar iets unieks voor in je huis, een betaalbaar servies of een bijzondere jas, dan is dit je kans om iets speciaals te vinden. Soms ontdek je verzamelobjecten, een bijna nieuwe kinderjas of een stapel platen. Het aanbod is elke keer anders en dat maakt het snuffelen zo leuk. Je weet nooit wat je tegenkomt!</p><h2>Makkelijk te bereiken locatie</h2><p>Sporthal De Bhoele vind je aan de Handelstraat 47 in Eerbeek. Je kunt in de buurt parkeren. Houd er wel rekening mee dat het in het begin van de markt wat drukker kan zijn. Kom je met de fiets of lopend? Dan ben je al binnen een paar minuten op de markt. In de sporthal kun je ook terecht voor een lekker kopje koffie en wat lekkers bij de gezellige catering. Kom gezellig langs en ontdek wat voor moois je allemaal kunt vinden op deze vlooienmarkt in Eerbeek. Je bent van harte welkom!</p>
DESCRIPTION:<a href='/agenda/2026/4/19/vlooienmarkt-eerbeek-1267859'>/agenda/2026/4/19/vlooienmarkt-eerbeek-1267859</a> || <h2>Welkom bij de gezellige vlooienmarkt in Eerbeek!</h2><p>Je bent van harte welkom in Sporthal De Bhoele voor een markt vol verrassingen. Deze vlooienmarkt is bekend om de leuke mix van spullen die je er vindt. Denk aan mooie antieke voorwerpen, bijzondere curiosa en brocante schatten. Ook voor handige spullen voor in huis en mooie kleding ben je hier aan het juiste adres. Je vindt er ook veel kleine snuisterijen en spullen om je huis mee te versieren. Het evenement is helemaal binnen, dus het maakt niet uit wat voor weer het is. Je kunt altijd droog en gezellig rondkijken!</p><h2>Wat je kunt verwachten</h2><p>De organisatie, Animo Vlooienmarkten, zorgt ervoor dat de hal “bomvol met mooie spullen” staat. Als je op zoek bent naar iets unieks voor in je huis, een betaalbaar servies of een bijzondere jas, dan is dit je kans om iets speciaals te vinden. Soms ontdek je verzamelobjecten, een bijna nieuwe kinderjas of een stapel platen. Het aanbod is elke keer anders en dat maakt het snuffelen zo leuk. Je weet nooit wat je tegenkomt!</p><h2>Makkelijk te bereiken locatie</h2><p>Sporthal De Bhoele vind je aan de Handelstraat 47 in Eerbeek. Je kunt in de buurt parkeren. Houd er wel rekening mee dat het in het begin van de markt wat drukker kan zijn. Kom je met de fiets of lopend? Dan ben je al binnen een paar minuten op de markt. In de sporthal kun je ook terecht voor een lekker kopje koffie en wat lekkers bij de gezellige catering. Kom gezellig langs en ontdek wat voor moois je allemaal kunt vinden op deze vlooienmarkt in Eerbeek. Je bent van harte welkom!</p>
LAST-MODIFIED:20260420T022431Z
LOCATION: Sporthal de Bhoele | Handelstraat  Eerbeek
SEQUENCE:0
STATUS:CONFIRMED
SUMMARY:Vlooienmarkt Eerbeek
TRANSP:OPAQUE
END:VEVENT
END:VCALENDAR
