BEGIN:VCALENDAR
PRODID:-//PUBBLE//agenda//NL
VERSION:2.0
METHOD:PUBLISH
BEGIN:VEVENT
DTSTART:20260510T100000Z
DTEND:20260510T170000Z
DTSTAMP:20260420T151616Z
UID:12a811c3-3cbb-4a73-a9c7-548c7ed7e260
CREATED:20260420T151616Z
NAME:Expositie Bezoekerscentrum Nunspeet recreatiekrantveluwe.nl
X-WR-CALNAME:Expositie Bezoekerscentrum Nunspeet
X-ALT-DESC;FMTTYPE=text/html:<a href='/agenda/2026/5/10/expositie-bezoekerscentrum-nunspeet-1257220'>/agenda/2026/5/10/expositie-bezoekerscentrum-nunspeet-1257220</a> || <h2>Ontdek wilde dieren in het hart van de Veluwe</h2><p>Bezoekerscentrum Nunspeet ligt op een prachtige plek, precies aan de rand van de Veluwe. Hier kun je alles ontdekken over de natuur die vlak om je heen leeft. Op dit moment is er de expositie ‘Wildzoekers, zoogdieren en vogels’ te zien. Een leuke en leerzame tentoonstelling voor jong en oud.</p><h2>Leuk voor het hele gezin</h2><p>De expositie is echt iets voor het hele gezin. Kinderen kunnen op zoek gaan naar roofdieren, een grote puzzel maken of hun eigen tekening maken in de tekenhoek. Er is genoeg te beleven, dus verveling is er niet bij!</p><h2>Toegang en prijzen</h2><p>Een bezoek aan de expositie kost €2,50 per persoon. Een deel van dit bedrag kun je daarna inwisselen als tegoedbon in de winkel. Zo haal je er nog een beetje extra uit.</p><h2>Abonnement</h2><p>Kom je vaker langs? Dan is het abonnement erg voordelig. Voor €12,50 per persoon heb je een jaar lang toegang tot de natuurexpositie. Daar krijg je ook 20% korting op activiteiten bij. Let op: de korting geldt niet voor vaste activiteiten zoals het kabouterpas en het hulpboswachterspad.</p><h2>Openingstijden</h2><p>Tijdens officiële schoolvakanties is het bezoekerscentrum zeven dagen per week open. Buiten de vakanties is het open van woensdag tot en met zondag, van 10:00 tot 17:00 uur.</p><p>Kom langs en beleef de natuur van de Veluwe van dichtbij. Een uitje dat je niet snel vergeet!</p>
DESCRIPTION:<a href='/agenda/2026/5/10/expositie-bezoekerscentrum-nunspeet-1257220'>/agenda/2026/5/10/expositie-bezoekerscentrum-nunspeet-1257220</a> || <h2>Ontdek wilde dieren in het hart van de Veluwe</h2><p>Bezoekerscentrum Nunspeet ligt op een prachtige plek, precies aan de rand van de Veluwe. Hier kun je alles ontdekken over de natuur die vlak om je heen leeft. Op dit moment is er de expositie ‘Wildzoekers, zoogdieren en vogels’ te zien. Een leuke en leerzame tentoonstelling voor jong en oud.</p><h2>Leuk voor het hele gezin</h2><p>De expositie is echt iets voor het hele gezin. Kinderen kunnen op zoek gaan naar roofdieren, een grote puzzel maken of hun eigen tekening maken in de tekenhoek. Er is genoeg te beleven, dus verveling is er niet bij!</p><h2>Toegang en prijzen</h2><p>Een bezoek aan de expositie kost €2,50 per persoon. Een deel van dit bedrag kun je daarna inwisselen als tegoedbon in de winkel. Zo haal je er nog een beetje extra uit.</p><h2>Abonnement</h2><p>Kom je vaker langs? Dan is het abonnement erg voordelig. Voor €12,50 per persoon heb je een jaar lang toegang tot de natuurexpositie. Daar krijg je ook 20% korting op activiteiten bij. Let op: de korting geldt niet voor vaste activiteiten zoals het kabouterpas en het hulpboswachterspad.</p><h2>Openingstijden</h2><p>Tijdens officiële schoolvakanties is het bezoekerscentrum zeven dagen per week open. Buiten de vakanties is het open van woensdag tot en met zondag, van 10:00 tot 17:00 uur.</p><p>Kom langs en beleef de natuur van de Veluwe van dichtbij. Een uitje dat je niet snel vergeet!</p>
LAST-MODIFIED:20260420T151616Z
LOCATION: Bezoekerscentrum Nunspeet | Plesmanlaan 2 Nunspeet
SEQUENCE:0
STATUS:CONFIRMED
SUMMARY:Expositie Bezoekerscentrum Nunspeet
TRANSP:OPAQUE
END:VEVENT
END:VCALENDAR
