BEGIN:VCALENDAR
PRODID:-//PUBBLE//agenda//NL
VERSION:2.0
METHOD:PUBLISH
BEGIN:VEVENT
DTSTART:20251115T113000Z
DTEND:20251115T123000Z
DTSTAMP:20260422T171755Z
UID:0048c39e-af22-486e-b404-ea5635d90950
CREATED:20260422T171755Z
NAME:Sinterklaasintocht Ermelo recreatiekrantveluwe.nl
X-WR-CALNAME:Sinterklaasintocht Ermelo
X-ALT-DESC;FMTTYPE=text/html:<a href='/agenda/2025/11/15/sinterklaasintocht-ermelo-1195463'>/agenda/2025/11/15/sinterklaasintocht-ermelo-1195463</a> || <p>De intocht van Sinterklaas vindt dit jaar plaats op zaterdag 15 november. We hopen Sint en zijn pieten vanaf 13.30 uur te verwelkomen op het Raadhuisplein. De burgemeester zal hem samen met de vele kinderen welkom heten in Ermelo.</p>
DESCRIPTION:<a href='/agenda/2025/11/15/sinterklaasintocht-ermelo-1195463'>/agenda/2025/11/15/sinterklaasintocht-ermelo-1195463</a> || <p>De intocht van Sinterklaas vindt dit jaar plaats op zaterdag 15 november. We hopen Sint en zijn pieten vanaf 13.30 uur te verwelkomen op het Raadhuisplein. De burgemeester zal hem samen met de vele kinderen welkom heten in Ermelo.</p>
LAST-MODIFIED:20260422T171755Z
LOCATION: Centrum van Ermelo | Raadhuisplein  Ermelo
SEQUENCE:0
STATUS:CONFIRMED
SUMMARY:Sinterklaasintocht Ermelo
TRANSP:OPAQUE
END:VEVENT
END:VCALENDAR
