BEGIN:VCALENDAR
PRODID:-//PUBBLE//agenda//NL
VERSION:2.0
METHOD:PUBLISH
BEGIN:VEVENT
DTSTART:20250830T190000Z
DTEND:20250830T050000Z
DTSTAMP:20260424T161948Z
UID:988213f4-3cf7-4cbd-923c-b9c8b704ab90
CREATED:20260424T161948Z
NAME:Ground Zero Festival recreatiekrantveluwe.nl
X-WR-CALNAME:Ground Zero Festival
X-ALT-DESC;FMTTYPE=text/html:<a href='/agenda/2025/8/30/ground-zero-festival-1195206'>/agenda/2025/8/30/ground-zero-festival-1195206</a> || <p><strong>Zaterdag 30 augustus 2025</strong> komt Ground Zero naar Bussloo. Ground Zero Festival is het hardste hardcore evenement in Europa en het enige nachtfestival in Nederland. Elk jaar wordt het <a href="https://www.leisurelands.nl/nl/ontdek-recreatiegebieden-leisurelands/veluwe/bussloo" rel="noopener noreferrer" target="_blank">Recreatiegebied Bussloo</a> de hele nacht omgetoverd tot een wereld van duisternis met de beste hardcore, uptempo, frenchcore, terror, industrial en early.</p>
DESCRIPTION:<a href='/agenda/2025/8/30/ground-zero-festival-1195206'>/agenda/2025/8/30/ground-zero-festival-1195206</a> || <p><strong>Zaterdag 30 augustus 2025</strong> komt Ground Zero naar Bussloo. Ground Zero Festival is het hardste hardcore evenement in Europa en het enige nachtfestival in Nederland. Elk jaar wordt het <a href="https://www.leisurelands.nl/nl/ontdek-recreatiegebieden-leisurelands/veluwe/bussloo" rel="noopener noreferrer" target="_blank">Recreatiegebied Bussloo</a> de hele nacht omgetoverd tot een wereld van duisternis met de beste hardcore, uptempo, frenchcore, terror, industrial en early.</p>
LAST-MODIFIED:20260424T161948Z
LOCATION: Recreatiegebied Bussloo | Withagenweg   Wilp
SEQUENCE:0
STATUS:CONFIRMED
SUMMARY:Ground Zero Festival
TRANSP:OPAQUE
END:VEVENT
END:VCALENDAR
