BEGIN:VCALENDAR
PRODID:-//PUBBLE//agenda//NL
VERSION:2.0
METHOD:PUBLISH
BEGIN:VEVENT
DTSTART:20250208T181500Z
DTEND:20250208T194500Z
DTSTAMP:20260422T165411Z
UID:6f16b062-7b0c-4bae-bab0-8ecbfffd6589
CREATED:20260422T165411Z
NAME:Humaniora, bandoneon en meer recreatiekrantveluwe.nl
X-WR-CALNAME:Humaniora, bandoneon en meer
X-ALT-DESC;FMTTYPE=text/html:<a href='/agenda/2025/2/8/humaniora-bandoneon-en-meer-1134213'>/agenda/2025/2/8/humaniora-bandoneon-en-meer-1134213</a> || <p>Humaniora </p><p>Wat betekent het om een mens te zijn in een veranderende wereld? Het LUNA-kamerkoor zingt met het Project XXVI ‘Humaniora” werken van Alec Roth en Martin de Ruiter om dit toe te lichten. De composities van Roth en de Ruiter belichten elk een andere dimensie van de menselijke zoektocht. Beide werken roepen vragen op over de menselijke identiteit en onze plaats in een steeds veranderende wereld. “Earthrise” (2010) van Alec Roth is een koorwerk (dubbelkoor) waarin de kwetsbaarheid van de aarde en de menselijke verbondenheid met de planeet centraal staat. In “Lumen Mundi” (première) reflecteert bandoneonist en componist Martin de Ruiter op de spanning tussen technologie en de menselijke emotie. Het werk is voor het Luna-kamerkoor herschreven vanuit zijn eerdere compositie Minotauro Tango. Het is een achtstemmig werk met bandoneon en samples. Concerten vinden plaats in Elst, Epe en Utrecht. Kaarten zijn te bestellen via de website</p>
DESCRIPTION:<a href='/agenda/2025/2/8/humaniora-bandoneon-en-meer-1134213'>/agenda/2025/2/8/humaniora-bandoneon-en-meer-1134213</a> || <p>Humaniora </p><p>Wat betekent het om een mens te zijn in een veranderende wereld? Het LUNA-kamerkoor zingt met het Project XXVI ‘Humaniora” werken van Alec Roth en Martin de Ruiter om dit toe te lichten. De composities van Roth en de Ruiter belichten elk een andere dimensie van de menselijke zoektocht. Beide werken roepen vragen op over de menselijke identiteit en onze plaats in een steeds veranderende wereld. “Earthrise” (2010) van Alec Roth is een koorwerk (dubbelkoor) waarin de kwetsbaarheid van de aarde en de menselijke verbondenheid met de planeet centraal staat. In “Lumen Mundi” (première) reflecteert bandoneonist en componist Martin de Ruiter op de spanning tussen technologie en de menselijke emotie. Het werk is voor het Luna-kamerkoor herschreven vanuit zijn eerdere compositie Minotauro Tango. Het is een achtstemmig werk met bandoneon en samples. Concerten vinden plaats in Elst, Epe en Utrecht. Kaarten zijn te bestellen via de website</p>
LAST-MODIFIED:20260422T165411Z
LOCATION: Grote Kerk | Beekstraat 1A Epe
SEQUENCE:0
STATUS:CONFIRMED
SUMMARY:Humaniora, bandoneon en meer
TRANSP:OPAQUE
END:VEVENT
END:VCALENDAR
