BEGIN:VCALENDAR
PRODID:-//PUBBLE//agenda//NL
VERSION:2.0
METHOD:PUBLISH
BEGIN:VEVENT
DTSTART:20241221T143000Z
DTEND:20241221T190000Z
DTSTAMP:20260419T122539Z
UID:e5d7b7d0-f01e-4016-af21-0e8d96b86b0a
CREATED:20260419T122539Z
NAME:Ampies Berg in kerstsfeer recreatiekrantveluwe.nl
X-WR-CALNAME:Ampies Berg in kerstsfeer
X-ALT-DESC;FMTTYPE=text/html:<a href='/agenda/2024/12/21/ampies-berg-in-kerstsfeer-1105051'>/agenda/2024/12/21/ampies-berg-in-kerstsfeer-1105051</a> || <p><em>Ampies Berg</em> is een bijzondere tuin die open is voor publiek. Met veel liefde is een prachtige tuin gecreeërd waarin bloeiende planten afgewisseld worden met bijzondere vaste planten.&nbsp;</p><p>Tijdens de kerstperiode is de tuin prachtig verlicht en vanaf 16.30 tot 21.00 uur geopend voor publiek van 19 december t/m 3 januari.&nbsp;</p><p>Feestdagen en zondag gesloten. De entree is gratis, Uw vrijwillige bijdrage wordt zeer gewaardeerd.&nbsp;</p>
DESCRIPTION:<a href='/agenda/2024/12/21/ampies-berg-in-kerstsfeer-1105051'>/agenda/2024/12/21/ampies-berg-in-kerstsfeer-1105051</a> || <p><em>Ampies Berg</em> is een bijzondere tuin die open is voor publiek. Met veel liefde is een prachtige tuin gecreeërd waarin bloeiende planten afgewisseld worden met bijzondere vaste planten.&nbsp;</p><p>Tijdens de kerstperiode is de tuin prachtig verlicht en vanaf 16.30 tot 21.00 uur geopend voor publiek van 19 december t/m 3 januari.&nbsp;</p><p>Feestdagen en zondag gesloten. De entree is gratis, Uw vrijwillige bijdrage wordt zeer gewaardeerd.&nbsp;</p>
LAST-MODIFIED:20260419T122539Z
LOCATION: Ampies Berg | Verlengde Vaarbekerweg  't Harde
SEQUENCE:0
STATUS:CONFIRMED
SUMMARY:Ampies Berg in kerstsfeer
TRANSP:OPAQUE
END:VEVENT
END:VCALENDAR
